BEGIN:VCALENDAR
VERSION:2.0
PRODID:spatie/icalendar-generator
DESCRIPTION:Events from Star Valley Ranch Association
X-WR-CALDESC:Events from Star Valley Ranch Association
REFRESH-INTERVAL;VALUE=DURATION:PT1440M
X-PUBLISHED-TTL:PT1440M
BEGIN:VTIMEZONE
TZID:Etc/GMT+7
BEGIN:STANDARD
DTSTART:20170103T090000Z
TZOFFSETFROM:-0700
TZOFFSETTO:-0700
END:STANDARD
END:VTIMEZONE
BEGIN:VTIMEZONE
TZID:UTC
BEGIN:STANDARD
DTSTART:20250723T145002Z
TZOFFSETFROM:+0000
TZOFFSETTO:+0000
END:STANDARD
END:VTIMEZONE
BEGIN:VEVENT
UID:3669-118
DTSTAMP:20260419T145002Z
SUMMARY:Tennis Club - Aspen Hills
LOCATION:
ORGANIZER;CN=BusinessDevelopment:MAILTO:harmony@coburnenterprises.com
RRULE:FREQ=WEEKLY;COUNT=17
DTSTART;TZID=Etc/GMT+7:20170930T090000
DTEND;TZID=Etc/GMT+7:20170930T100000
X-ALT-DESC;FMTTYPE=TEXT/HTML:
CATEGORIES:Social Activities Calendar
URL;VALUE=URI:https://svrawy.com/calendar/tennis-club-aspen-hills-3/?mc_id=
 3669
METHOD:PUBLISH
END:VEVENT
END:VCALENDAR