BEGIN:VCALENDAR
VERSION:2.0
PRODID:spatie/icalendar-generator
DESCRIPTION:Events from Star Valley Ranch Association
X-WR-CALDESC:Events from Star Valley Ranch Association
REFRESH-INTERVAL;VALUE=DURATION:PT1440M
X-PUBLISHED-TTL:PT1440M
BEGIN:VTIMEZONE
TZID:Etc/GMT+7
BEGIN:STANDARD
DTSTART:20230219T190000Z
TZOFFSETFROM:-0700
TZOFFSETTO:-0700
END:STANDARD
END:VTIMEZONE
BEGIN:VTIMEZONE
TZID:UTC
BEGIN:STANDARD
DTSTART:20250725T085400Z
TZOFFSETFROM:+0000
TZOFFSETTO:+0000
END:STANDARD
END:VTIMEZONE
BEGIN:VEVENT
UID:17718-664
DTSTAMP:20260421T085400Z
SUMMARY:Board Meeting
LOCATION:
ORGANIZER;CN=Keri Sweet:MAILTO:svrawy@silverstar.com
RRULE:FREQ=MONTHLY;BYDAY=3TH;UNTIL=20231228T000000Z
DTSTART;TZID=Etc/GMT+7:20231116T190000
DTEND;TZID=Etc/GMT+7:20231116T200000
X-ALT-DESC;FMTTYPE=TEXT/HTML:
CATEGORIES:Association Business Calendar
URL;VALUE=URI:https://svrawy.com/calendar/board-meeting-7/?mc_id=17718
METHOD:PUBLISH
END:VEVENT
END:VCALENDAR