BEGIN:VCALENDAR
VERSION:2.0
PRODID:spatie/icalendar-generator
DESCRIPTION:Events from Star Valley Ranch Association
X-WR-CALDESC:Events from Star Valley Ranch Association
REFRESH-INTERVAL;VALUE=DURATION:PT1440M
X-PUBLISHED-TTL:PT1440M
BEGIN:VTIMEZONE
TZID:Etc/GMT+7
BEGIN:STANDARD
DTSTART:20200727T190000Z
TZOFFSETFROM:-0700
TZOFFSETTO:-0700
END:STANDARD
END:VTIMEZONE
BEGIN:VTIMEZONE
TZID:UTC
BEGIN:STANDARD
DTSTART:20250725T085220Z
TZOFFSETFROM:+0000
TZOFFSETTO:+0000
END:STANDARD
END:VTIMEZONE
BEGIN:VEVENT
UID:16026-463
DTSTAMP:20260421T085220Z
SUMMARY:Hand &amp;amp\; Foot
LOCATION:
ORGANIZER;CN=BusinessDevelopment:MAILTO:harmony@coburnenterprises.com
RRULE:FREQ=WEEKLY;COUNT=50
DTSTART;TZID=Etc/GMT+7:20210423T190000
DTEND;TZID=Etc/GMT+7:20210423T200000
X-ALT-DESC;FMTTYPE=TEXT/HTML:
CATEGORIES:Social Activities Calendar
URL;VALUE=URI:https://svrawy.com/calendar/hand-foot/?mc_id=16026
METHOD:PUBLISH
END:VEVENT
END:VCALENDAR