BEGIN:VCALENDAR
VERSION:2.0
PRODID:spatie/icalendar-generator
DESCRIPTION:Events from Star Valley Ranch Association
X-WR-CALDESC:Events from Star Valley Ranch Association
REFRESH-INTERVAL;VALUE=DURATION:PT1440M
X-PUBLISHED-TTL:PT1440M
BEGIN:VTIMEZONE
TZID:Etc/GMT+7
BEGIN:STANDARD
DTSTART:20180817T130000Z
TZOFFSETFROM:-0700
TZOFFSETTO:-0700
END:STANDARD
END:VTIMEZONE
BEGIN:VTIMEZONE
TZID:UTC
BEGIN:STANDARD
DTSTART:20250725T085231Z
TZOFFSETFROM:+0000
TZOFFSETTO:+0000
END:STANDARD
END:VTIMEZONE
BEGIN:VEVENT
UID:14361-162
DTSTAMP:20260421T085231Z
SUMMARY:Ladies 31 cards - Cookshack
LOCATION:
ORGANIZER;CN=BusinessDevelopment:MAILTO:harmony@coburnenterprises.com
RRULE:FREQ=WEEKLY;COUNT=90
DTSTART;TZID=Etc/GMT+7:20190514T130000
DTEND;TZID=Etc/GMT+7:20190514T160000
X-ALT-DESC;FMTTYPE=TEXT/HTML:
CATEGORIES:Social Activities Calendar
URL;VALUE=URI:https://svrawy.com/calendar/ladies-31-cards-cookshack-13/?mc_
 id=14361
METHOD:PUBLISH
END:VEVENT
END:VCALENDAR