BEGIN:VCALENDAR
VERSION:2.0
PRODID:spatie/icalendar-generator
DESCRIPTION:Events from Star Valley Ranch Association
X-WR-CALDESC:Events from Star Valley Ranch Association
REFRESH-INTERVAL;VALUE=DURATION:PT1440M
X-PUBLISHED-TTL:PT1440M
BEGIN:VTIMEZONE
TZID:Etc/GMT+7
BEGIN:STANDARD
DTSTART:20180112T083000Z
TZOFFSETFROM:-0700
TZOFFSETTO:-0700
END:STANDARD
END:VTIMEZONE
BEGIN:VTIMEZONE
TZID:UTC
BEGIN:STANDARD
DTSTART:20250724T083201Z
TZOFFSETFROM:+0000
TZOFFSETTO:+0000
END:STANDARD
END:VTIMEZONE
BEGIN:VEVENT
UID:13067-242
DTSTAMP:20260420T083201Z
SUMMARY:Tennis Club
LOCATION:
ORGANIZER;CN=BusinessDevelopment:MAILTO:harmony@coburnenterprises.com
RRULE:FREQ=WEEKLY;COUNT=40
DTSTART;TZID=Etc/GMT+7:20181009T083000
DTEND;TZID=Etc/GMT+7:20181009T093000
X-ALT-DESC;FMTTYPE=TEXT/HTML:
CATEGORIES:Social Activities Calendar
URL;VALUE=URI:https://svrawy.com/calendar/tennis-club/?mc_id=13067
METHOD:PUBLISH
END:VEVENT
END:VCALENDAR