BEGIN:VCALENDAR
VERSION:2.0
PRODID:spatie/icalendar-generator
DESCRIPTION:Events from Star Valley Ranch Association
X-WR-CALDESC:Events from Star Valley Ranch Association
REFRESH-INTERVAL;VALUE=DURATION:PT1440M
X-PUBLISHED-TTL:PT1440M
BEGIN:VTIMEZONE
TZID:Etc/GMT+7
BEGIN:STANDARD
DTSTART:20240121T190000Z
TZOFFSETFROM:-0700
TZOFFSETTO:-0700
END:STANDARD
END:VTIMEZONE
BEGIN:VTIMEZONE
TZID:UTC
BEGIN:STANDARD
DTSTART:20250727T085312Z
TZOFFSETFROM:+0000
TZOFFSETTO:+0000
END:STANDARD
END:VTIMEZONE
BEGIN:VEVENT
UID:18006-690
DTSTAMP:20260423T085312Z
SUMMARY:BOD Meeting
LOCATION:
ORGANIZER;CN=Keri Sweet:MAILTO:svrawy@silverstar.com
RRULE:FREQ=MONTHLY;BYDAY=3TH;UNTIL=20241121T000000Z
DTSTART;TZID=Etc/GMT+7:20241017T190000
DTEND;TZID=Etc/GMT+7:20241017T200000
X-ALT-DESC;FMTTYPE=TEXT/HTML:
CATEGORIES:Association Business Calendar
URL;VALUE=URI:https://svrawy.com/calendar/bod-meeting-12/?mc_id=18006
METHOD:PUBLISH
END:VEVENT
END:VCALENDAR