BEGIN:VCALENDAR
VERSION:2.0
PRODID:spatie/icalendar-generator
DESCRIPTION:Events from Star Valley Ranch Association
X-WR-CALDESC:Events from Star Valley Ranch Association
REFRESH-INTERVAL;VALUE=DURATION:PT1440M
X-PUBLISHED-TTL:PT1440M
BEGIN:VTIMEZONE
TZID:Etc/GMT+7
BEGIN:STANDARD
DTSTART:20220813T000000Z
TZOFFSETFROM:-0700
TZOFFSETTO:-0700
END:STANDARD
END:VTIMEZONE
BEGIN:VTIMEZONE
TZID:UTC
BEGIN:STANDARD
DTSTART:20250724T113039Z
TZOFFSETFROM:+0000
TZOFFSETTO:+0000
END:STANDARD
END:VTIMEZONE
BEGIN:VEVENT
UID:17613-649
DTSTAMP:20260420T113039Z
SUMMARY:SVMGA
LOCATION:
ORGANIZER;CN=Keri Sweet:MAILTO:svrawy@silverstar.com
RRULE:FREQ=WEEKLY;UNTIL=20230531T000000Z
DTSTART;TZID=Etc/GMT+7;VALUE=DATE:20230510
DTEND;TZID=Etc/GMT+7;VALUE=DATE:20230511
X-ALT-DESC;FMTTYPE=TEXT/HTML:
CATEGORIES:Golf Calendar
URL;VALUE=URI:https://svrawy.com/calendar/svmga-24/?mc_id=17613
METHOD:PUBLISH
END:VEVENT
END:VCALENDAR