BEGIN:VCALENDAR
VERSION:2.0
PRODID:spatie/icalendar-generator
DESCRIPTION:Events from Star Valley Ranch Association
X-WR-CALDESC:Events from Star Valley Ranch Association
REFRESH-INTERVAL;VALUE=DURATION:PT1440M
X-PUBLISHED-TTL:PT1440M
BEGIN:VTIMEZONE
TZID:Etc/GMT+7
BEGIN:STANDARD
DTSTART:20220712T110000Z
TZOFFSETFROM:-0700
TZOFFSETTO:-0700
END:STANDARD
END:VTIMEZONE
BEGIN:VTIMEZONE
TZID:UTC
BEGIN:STANDARD
DTSTART:20250726T114635Z
TZOFFSETFROM:+0000
TZOFFSETTO:+0000
END:STANDARD
END:VTIMEZONE
BEGIN:VEVENT
UID:17586-624
DTSTAMP:20260422T114635Z
SUMMARY:Easter Egg Hunt
LOCATION:
ORGANIZER;CN=Keri Sweet:MAILTO:svrawy@silverstar.com
DTSTART;TZID=Etc/GMT+7:20230408T110000
DTEND;TZID=Etc/GMT+7:20230408T120000
X-ALT-DESC;FMTTYPE=TEXT/HTML:
CATEGORIES:H&amp;E Event
URL;VALUE=URI:https://svrawy.com/calendar/easter-egg-hunt-4/
METHOD:PUBLISH
END:VEVENT
END:VCALENDAR