BEGIN:VCALENDAR
VERSION:2.0
PRODID:spatie/icalendar-generator
DESCRIPTION:Events from Star Valley Ranch Association
X-WR-CALDESC:Events from Star Valley Ranch Association
REFRESH-INTERVAL;VALUE=DURATION:PT1440M
X-PUBLISHED-TTL:PT1440M
BEGIN:VTIMEZONE
TZID:Etc/GMT+7
BEGIN:STANDARD
DTSTART:20211202T100000Z
TZOFFSETFROM:-0700
TZOFFSETTO:-0700
END:STANDARD
END:VTIMEZONE
BEGIN:VTIMEZONE
TZID:UTC
BEGIN:STANDARD
DTSTART:20250725T114022Z
TZOFFSETFROM:+0000
TZOFFSETTO:+0000
END:STANDARD
END:VTIMEZONE
BEGIN:VEVENT
UID:17405-569
DTSTAMP:20260421T114022Z
SUMMARY:SVLGA (Aspen Hills)
LOCATION:
ORGANIZER;CN=Tallia Booker:MAILTO:managersvra@silverstar.com
DTSTART;TZID=Etc/GMT+7:20220829T100000
DTEND;TZID=Etc/GMT+7:20220829T110000
X-ALT-DESC;FMTTYPE=TEXT/HTML:
CATEGORIES:Golf Calendar
URL;VALUE=URI:https://svrawy.com/calendar/svlga-aspen-hills-11/
METHOD:PUBLISH
END:VEVENT
END:VCALENDAR