BEGIN:VCALENDAR
VERSION:2.0
PRODID:spatie/icalendar-generator
DESCRIPTION:Events from Star Valley Ranch Association
X-WR-CALDESC:Events from Star Valley Ranch Association
REFRESH-INTERVAL;VALUE=DURATION:PT1440M
X-PUBLISHED-TTL:PT1440M
BEGIN:VTIMEZONE
TZID:Etc/GMT+7
BEGIN:STANDARD
DTSTART:20201006T070000Z
TZOFFSETFROM:-0700
TZOFFSETTO:-0700
END:STANDARD
END:VTIMEZONE
BEGIN:VTIMEZONE
TZID:UTC
BEGIN:STANDARD
DTSTART:20250724T083558Z
TZOFFSETFROM:+0000
TZOFFSETTO:+0000
END:STANDARD
END:VTIMEZONE
BEGIN:VEVENT
UID:16968-352
DTSTAMP:20260420T083558Z
SUMMARY:Independence Day Celebration - Cedar Creek Park
LOCATION:
ORGANIZER;CN=BusinessDevelopment:MAILTO:harmony@coburnenterprises.com
DTSTART;TZID=Etc/GMT+7:20210703T070000
DTEND;TZID=Etc/GMT+7:20210703T150000
X-ALT-DESC;FMTTYPE=TEXT/HTML:
CATEGORIES:H&amp;E Event
URL;VALUE=URI:https://svrawy.com/calendar/independence-day-celebration-ceda
 r-creek-park-2/
METHOD:PUBLISH
END:VEVENT
END:VCALENDAR