BEGIN:VCALENDAR
VERSION:2.0
PRODID:spatie/icalendar-generator
DESCRIPTION:Events from Star Valley Ranch Association
X-WR-CALDESC:Events from Star Valley Ranch Association
REFRESH-INTERVAL;VALUE=DURATION:PT1440M
X-PUBLISHED-TTL:PT1440M
BEGIN:VTIMEZONE
TZID:Etc/GMT+7
BEGIN:STANDARD
DTSTART:20180818T123000Z
TZOFFSETFROM:-0700
TZOFFSETTO:-0700
END:STANDARD
END:VTIMEZONE
BEGIN:VTIMEZONE
TZID:UTC
BEGIN:STANDARD
DTSTART:20250725T101525Z
TZOFFSETFROM:+0000
TZOFFSETTO:+0000
END:STANDARD
END:VTIMEZONE
BEGIN:VEVENT
UID:14251-370
DTSTAMP:20260421T101525Z
SUMMARY:Bridge (Cookshack)
LOCATION:
ORGANIZER;CN=BusinessDevelopment:MAILTO:harmony@coburnenterprises.com
RRULE:FREQ=WEEKLY;COUNT=25
DTSTART;TZID=Etc/GMT+7:20190515T123000
DTEND;TZID=Etc/GMT+7:20190515T163000
X-ALT-DESC;FMTTYPE=TEXT/HTML:
CATEGORIES:Social Activities Calendar
URL;VALUE=URI:https://svrawy.com/calendar/bridge-cookshack-3/?mc_id=14251
METHOD:PUBLISH
END:VEVENT
END:VCALENDAR