BEGIN:VCALENDAR
VERSION:2.0
PRODID:spatie/icalendar-generator
DESCRIPTION:Events from Star Valley Ranch Association
X-WR-CALDESC:Events from Star Valley Ranch Association
REFRESH-INTERVAL;VALUE=DURATION:PT1440M
X-PUBLISHED-TTL:PT1440M
BEGIN:VTIMEZONE
TZID:Etc/GMT+7
BEGIN:STANDARD
DTSTART:20170903T103000Z
TZOFFSETFROM:-0700
TZOFFSETTO:-0700
END:STANDARD
END:VTIMEZONE
BEGIN:VTIMEZONE
TZID:UTC
BEGIN:STANDARD
DTSTART:20250723T165704Z
TZOFFSETFROM:+0000
TZOFFSETTO:+0000
END:STANDARD
END:VTIMEZONE
BEGIN:VEVENT
UID:12912-234
DTSTAMP:20260419T165704Z
SUMMARY:Sunshine Girls C.C.
LOCATION:
ORGANIZER;CN=BusinessDevelopment:MAILTO:harmony@coburnenterprises.com
RRULE:FREQ=WEEKLY;COUNT=4
DTSTART;TZID=Etc/GMT+7:20180531T103000
DTEND;TZID=Etc/GMT+7:20180531T113000
X-ALT-DESC;FMTTYPE=TEXT/HTML:
CATEGORIES:Golf Calendar
URL;VALUE=URI:https://svrawy.com/calendar/sunshine-girls-c-c/?mc_id=12912
METHOD:PUBLISH
END:VEVENT
END:VCALENDAR